BEGIN:VCALENDAR
VERSION:2.0
PRODID:-//hacksw/handcal//NONSGML v1.0//EN
CALSCALE:GREGORIAN
BEGIN:VEVENT
DTSTART:20160321T111500Z
DTEND:20160321T111500Z
UID:e16950
DTSTAMP:20260421T223130Z
LOCATION:Dannie N. Heineman Laboratory
DESCRIPTION:Fluctuations in inhomogeneous systems: From biopolymers through glasses to Casimir-like forces
SUMMARY:Fluctuations in inhomogeneous systems: From biopolymers through glasses to Casimir-like forces
END:VEVENT
END:VCALENDAR