BEGIN:VCALENDAR
VERSION:2.0
PRODID:-//hacksw/handcal//NONSGML v1.0//EN
CALSCALE:GREGORIAN
BEGIN:VEVENT
DTSTART:20160315T093000Z
DTEND:20160315T093000Z
UID:e16962
DTSTAMP:20260421T082845Z
LOCATION:Nella and Leon Benoziyo Building for Brain Research
DESCRIPTION:Dissecting the role of horizontal cells for retinal processing
SUMMARY:Dissecting the role of horizontal cells for retinal processing
END:VEVENT
END:VCALENDAR