BEGIN:VCALENDAR
VERSION:2.0
PRODID:-//hacksw/handcal//NONSGML v1.0//EN
CALSCALE:GREGORIAN
BEGIN:VEVENT
DTSTART:20160310T110000Z
DTEND:20160310T113000Z
UID:e16965
DTSTAMP:20260421T213506Z
LOCATION:Wolfson Building for Biological Research
DESCRIPTION:Mono to macro: From blood monocytes to intestinal macrophages
SUMMARY:Mono to macro: From blood monocytes to intestinal macrophages
END:VEVENT
END:VCALENDAR