BEGIN:VCALENDAR
VERSION:2.0
PRODID:-//hacksw/handcal//NONSGML v1.0//EN
CALSCALE:GREGORIAN
BEGIN:VEVENT
DTSTART:19691231T160000Z
DTEND:19691231T160000Z
UID:e16969
DTSTAMP:20260419T193528Z
LOCATION:The David Lopatie Conference Centre
DESCRIPTION:Executive Board and Committees Meeting - 2018
SUMMARY:Executive Board and Committees Meeting - 2018
END:VEVENT
END:VCALENDAR