BEGIN:VCALENDAR
VERSION:2.0
PRODID:-//hacksw/handcal//NONSGML v1.0//EN
CALSCALE:GREGORIAN
BEGIN:VEVENT
DTSTART:20160308T110000Z
DTEND:20160308T123000Z
UID:e16972
DTSTAMP:20260421T114507Z
LOCATION:Ullmann Building of Life Sciences
DESCRIPTION:Invitation to a seminar on separation and characterization of Proteins\, Polymers and Nanoparticles
SUMMARY:Invitation to a seminar on separation and characterization of Proteins\, Polymers and Nanoparticles
END:VEVENT
END:VCALENDAR