BEGIN:VCALENDAR
VERSION:2.0
PRODID:-//hacksw/handcal//NONSGML v1.0//EN
CALSCALE:GREGORIAN
BEGIN:VEVENT
DTSTART:20160405T080000Z
DTEND:20160405T080000Z
UID:e16973
DTSTAMP:20260421T102942Z
LOCATION:Dolfi and Lola Ebner Auditorium
DESCRIPTION:Weizmann Women and Science Award 2015 – Prof. Barbara Liskov
SUMMARY:Weizmann Women and Science Award 2015 – Prof. Barbara Liskov
END:VEVENT
END:VCALENDAR