BEGIN:VCALENDAR
VERSION:2.0
PRODID:-//hacksw/handcal//NONSGML v1.0//EN
CALSCALE:GREGORIAN
BEGIN:VEVENT
DTSTART:20160309T080000Z
DTEND:20160309T080000Z
UID:e16974
DTSTAMP:20260421T114511Z
LOCATION:
DESCRIPTION:Phenomenology of Enhanced Light Quark Yukawa Couplings
SUMMARY:Phenomenology of Enhanced Light Quark Yukawa Couplings
END:VEVENT
END:VCALENDAR