BEGIN:VCALENDAR
VERSION:2.0
PRODID:-//hacksw/handcal//NONSGML v1.0//EN
CALSCALE:GREGORIAN
BEGIN:VEVENT
DTSTART:20160322T110000Z
DTEND:20160322T110000Z
UID:e16976
DTSTAMP:20260421T102943Z
LOCATION:Helen and Milton A. Kimmelman Building
DESCRIPTION:Post-translational modifications as studied by methods for genetic code expansion
SUMMARY:Post-translational modifications as studied by methods for genetic code expansion
END:VEVENT
END:VCALENDAR