BEGIN:VCALENDAR
VERSION:2.0
PRODID:-//hacksw/handcal//NONSGML v1.0//EN
CALSCALE:GREGORIAN
BEGIN:VEVENT
DTSTART:20160406T090000Z
DTEND:20160406T090000Z
UID:e16981
DTSTAMP:20260420T195203Z
LOCATION:Camelia Botnar Building
DESCRIPTION:Mapping cell differentiation by single cell droplet microfluidic profiling
SUMMARY:Mapping cell differentiation by single cell droplet microfluidic profiling
END:VEVENT
END:VCALENDAR