BEGIN:VCALENDAR
VERSION:2.0
PRODID:-//hacksw/handcal//NONSGML v1.0//EN
CALSCALE:GREGORIAN
BEGIN:VEVENT
DTSTART:20160327T120000Z
DTEND:20160327T130000Z
UID:e16990
DTSTAMP:20260421T180756Z
LOCATION:Camelia Botnar Building
DESCRIPTION:Imaging bacterial chemotaxis\, from population to single molecules
SUMMARY:Imaging bacterial chemotaxis\, from population to single molecules
END:VEVENT
END:VCALENDAR