BEGIN:VCALENDAR
VERSION:2.0
PRODID:-//hacksw/handcal//NONSGML v1.0//EN
CALSCALE:GREGORIAN
BEGIN:VEVENT
DTSTART:20160522T100000Z
DTEND:20160522T100000Z
UID:e17004
DTSTAMP:20260420T050133Z
LOCATION:Arthur and Rochelle Belfer Building for Biomedical Research
DESCRIPTION:Characterizing cell fate regulation during synchronized reprogramming
SUMMARY:Characterizing cell fate regulation during synchronized reprogramming
END:VEVENT
END:VCALENDAR