BEGIN:VCALENDAR
VERSION:2.0
PRODID:-//hacksw/handcal//NONSGML v1.0//EN
CALSCALE:GREGORIAN
BEGIN:VEVENT
DTSTART:20160403T080000Z
DTEND:20160403T080000Z
UID:e17006
DTSTAMP:20260421T102941Z
LOCATION:Sussman Family Building for Environmental Sciences
DESCRIPTION:Deciphering Jupiter's internal flow using the Juno gravity measurements and an adjoint based dynamical model
SUMMARY:Deciphering Jupiter's internal flow using the Juno gravity measurements and an adjoint based dynamical model
END:VEVENT
END:VCALENDAR