BEGIN:VCALENDAR
VERSION:2.0
PRODID:-//hacksw/handcal//NONSGML v1.0//EN
CALSCALE:GREGORIAN
BEGIN:VEVENT
DTSTART:20160322T081500Z
DTEND:20160322T081500Z
UID:e17009
DTSTAMP:20260421T213505Z
LOCATION:Ullmann Building of Life Sciences
DESCRIPTION:Prey sensing by the obligate predatory bacterium Bdellovibrio bacteriovorus
SUMMARY:Prey sensing by the obligate predatory bacterium Bdellovibrio bacteriovorus
END:VEVENT
END:VCALENDAR