BEGIN:VCALENDAR
VERSION:2.0
PRODID:-//hacksw/handcal//NONSGML v1.0//EN
CALSCALE:GREGORIAN
BEGIN:VEVENT
DTSTART:20160317T110000Z
DTEND:20160317T113000Z
UID:e17012
DTSTAMP:20260421T114508Z
LOCATION:Wolfson Building for Biological Research
DESCRIPTION:Single cell resolution of DC- T cell interactome in the antigen-challenged lymph node
SUMMARY:Single cell resolution of DC- T cell interactome in the antigen-challenged lymph node
END:VEVENT
END:VCALENDAR