BEGIN:VCALENDAR
VERSION:2.0
PRODID:-//hacksw/handcal//NONSGML v1.0//EN
CALSCALE:GREGORIAN
BEGIN:VEVENT
DTSTART:20160524T133000Z
DTEND:20160524T150000Z
UID:e17021
DTSTAMP:20260421T173924Z
LOCATION:Michael Sela Auditorium
DESCRIPTION:The Israel Camerata Jerusalem  "Thinking Music" Eternal Recurrence
SUMMARY:The Israel Camerata Jerusalem  "Thinking Music" Eternal Recurrence
END:VEVENT
END:VCALENDAR