BEGIN:VCALENDAR
VERSION:2.0
PRODID:-//hacksw/handcal//NONSGML v1.0//EN
CALSCALE:GREGORIAN
BEGIN:VEVENT
DTSTART:20160329T080000Z
DTEND:20160329T090000Z
UID:e17029
DTSTAMP:20260421T102851Z
LOCATION:Helen and Milton A. Kimmelman Building
DESCRIPTION:Small-Molecule-Mediated Bacterial and Fungal Cell Disruption
SUMMARY:Small-Molecule-Mediated Bacterial and Fungal Cell Disruption
END:VEVENT
END:VCALENDAR