BEGIN:VCALENDAR
VERSION:2.0
PRODID:-//hacksw/handcal//NONSGML v1.0//EN
CALSCALE:GREGORIAN
BEGIN:VEVENT
DTSTART:20160328T111500Z
DTEND:20160328T121500Z
UID:e17032
DTSTAMP:20260421T102908Z
LOCATION:
DESCRIPTION:“Neutron star binaries as sources of gravitational waves an heavy r-process material”
SUMMARY:“Neutron star binaries as sources of gravitational waves an heavy r-process material”
END:VEVENT
END:VCALENDAR