BEGIN:VCALENDAR
VERSION:2.0
PRODID:-//hacksw/handcal//NONSGML v1.0//EN
CALSCALE:GREGORIAN
BEGIN:VEVENT
DTSTART:20160330T070000Z
DTEND:20160330T140000Z
UID:e17038
DTSTAMP:20260421T102838Z
LOCATION:Jacob Ziskind Building
DESCRIPTION:ACTION NOW 
SUMMARY:ACTION NOW 
END:VEVENT
END:VCALENDAR