BEGIN:VCALENDAR
VERSION:2.0
PRODID:-//hacksw/handcal//NONSGML v1.0//EN
CALSCALE:GREGORIAN
BEGIN:VEVENT
DTSTART:20160419T110000Z
DTEND:20160419T110000Z
UID:e17045
DTSTAMP:20260419T100521Z
LOCATION:Helen and Milton A. Kimmelman Building
DESCRIPTION:Protein and genome engineering for the study of DNA replication in eukaryotes
SUMMARY:Protein and genome engineering for the study of DNA replication in eukaryotes
END:VEVENT
END:VCALENDAR