BEGIN:VCALENDAR
VERSION:2.0
PRODID:-//hacksw/handcal//NONSGML v1.0//EN
CALSCALE:GREGORIAN
BEGIN:VEVENT
DTSTART:20160509T110000Z
DTEND:20160509T120000Z
UID:e17077
DTSTAMP:20260419T100505Z
LOCATION:Raoul and Graziella de Picciotto Building for Scientific and Technical Support
DESCRIPTION:Diverse high throughput technologies in cancer research and in synthetic biology
SUMMARY:Diverse high throughput technologies in cancer research and in synthetic biology
END:VEVENT
END:VCALENDAR