BEGIN:VCALENDAR
VERSION:2.0
PRODID:-//hacksw/handcal//NONSGML v1.0//EN
CALSCALE:GREGORIAN
BEGIN:VEVENT
DTSTART:20160626T100000Z
DTEND:20160626T100000Z
UID:e17088
DTSTAMP:20260420T045836Z
LOCATION:Arthur and Rochelle Belfer Building for Biomedical Research
DESCRIPTION:Move or Die: The Journey of Primordial Germ Cells to the Gonads
SUMMARY:Move or Die: The Journey of Primordial Germ Cells to the Gonads
END:VEVENT
END:VCALENDAR