BEGIN:VCALENDAR
VERSION:2.0
PRODID:-//hacksw/handcal//NONSGML v1.0//EN
CALSCALE:GREGORIAN
BEGIN:VEVENT
DTSTART:20160616T133000Z
DTEND:20160616T150000Z
UID:e17092
DTSTAMP:20260421T224338Z
LOCATION:Michael Sela Auditorium
DESCRIPTION:Afternoon music - The best blues on one stage 
SUMMARY:Afternoon music - The best blues on one stage 
END:VEVENT
END:VCALENDAR