BEGIN:VCALENDAR
VERSION:2.0
PRODID:-//hacksw/handcal//NONSGML v1.0//EN
CALSCALE:GREGORIAN
BEGIN:VEVENT
DTSTART:20160621T163000Z
DTEND:20160621T183000Z
UID:e17094
DTSTAMP:20260420T062931Z
LOCATION:Michael Sela Auditorium
DESCRIPTION:Alexander Shirbin - Russian stand up 
SUMMARY:Alexander Shirbin - Russian stand up 
END:VEVENT
END:VCALENDAR