BEGIN:VCALENDAR
VERSION:2.0
PRODID:-//hacksw/handcal//NONSGML v1.0//EN
CALSCALE:GREGORIAN
BEGIN:VEVENT
DTSTART:20160503T093000Z
DTEND:20160503T093000Z
UID:e17111
DTSTAMP:20260420T122324Z
LOCATION:Gerhard M.J. Schmidt Lecture Hall
DESCRIPTION:The origin of synchronized synaptic activities in the barrel cortex
SUMMARY:The origin of synchronized synaptic activities in the barrel cortex
END:VEVENT
END:VCALENDAR