BEGIN:VCALENDAR
VERSION:2.0
PRODID:-//hacksw/handcal//NONSGML v1.0//EN
CALSCALE:GREGORIAN
BEGIN:VEVENT
DTSTART:20160616T103000Z
DTEND:20160616T103000Z
UID:e17114
DTSTAMP:20260420T155025Z
LOCATION:Wolfson Building for Biological Research
DESCRIPTION:Highlights in Immunology 2016
SUMMARY:Highlights in Immunology 2016
END:VEVENT
END:VCALENDAR