BEGIN:VCALENDAR
VERSION:2.0
PRODID:-//hacksw/handcal//NONSGML v1.0//EN
CALSCALE:GREGORIAN
BEGIN:VEVENT
DTSTART:20160623T110000Z
DTEND:20160623T110000Z
UID:e17115
DTSTAMP:20260420T115918Z
LOCATION:Wolfson Building for Biological Research
DESCRIPTION:SLAMF and the adapter SAP govern T-B cell interactions during humoral responses
SUMMARY:SLAMF and the adapter SAP govern T-B cell interactions during humoral responses
END:VEVENT
END:VCALENDAR