BEGIN:VCALENDAR
VERSION:2.0
PRODID:-//hacksw/handcal//NONSGML v1.0//EN
CALSCALE:GREGORIAN
BEGIN:VEVENT
DTSTART:20160515T120000Z
DTEND:20160515T130000Z
UID:e17141
DTSTAMP:20260419T185822Z
LOCATION:Arthur and Rochelle Belfer Building for Biomedical Research
DESCRIPTION:Sugar synthesis from CO2 in e.coli
SUMMARY:Sugar synthesis from CO2 in e.coli
END:VEVENT
END:VCALENDAR