BEGIN:VCALENDAR
VERSION:2.0
PRODID:-//hacksw/handcal//NONSGML v1.0//EN
CALSCALE:GREGORIAN
BEGIN:VEVENT
DTSTART:20160510T081500Z
DTEND:20160510T081500Z
UID:e17147
DTSTAMP:20260419T100513Z
LOCATION:Ullmann Building of Life Sciences
DESCRIPTION:Glycosyltransferases\; substrate- & site-specific players in the combinatorial modifications that lead to the vast diversity of flavonoids\;
SUMMARY:Glycosyltransferases\; substrate- & site-specific players in the combinatorial modifications that lead to the vast diversity of flavonoids\;
END:VEVENT
END:VCALENDAR