BEGIN:VCALENDAR
VERSION:2.0
PRODID:-//hacksw/handcal//NONSGML v1.0//EN
CALSCALE:GREGORIAN
BEGIN:VEVENT
DTSTART:20160510T093000Z
DTEND:20160510T093000Z
UID:e17148
DTSTAMP:20260419T100411Z
LOCATION:Gerhard M.J. Schmidt Lecture Hall
DESCRIPTION:HOW SLOW CORTICAL NEURONS MANAGE TO MAKE FAST DECISIONS 
SUMMARY:HOW SLOW CORTICAL NEURONS MANAGE TO MAKE FAST DECISIONS 
END:VEVENT
END:VCALENDAR