BEGIN:VCALENDAR
VERSION:2.0
PRODID:-//hacksw/handcal//NONSGML v1.0//EN
CALSCALE:GREGORIAN
BEGIN:VEVENT
DTSTART:20160519T110000Z
DTEND:20160519T113000Z
UID:e17155
DTSTAMP:20260420T122308Z
LOCATION:Wolfson Building for Biological Research
DESCRIPTION:"Molecular dissection of bone marrow stroma"
SUMMARY:"Molecular dissection of bone marrow stroma"
END:VEVENT
END:VCALENDAR