BEGIN:VCALENDAR
VERSION:2.0
PRODID:-//hacksw/handcal//NONSGML v1.0//EN
CALSCALE:GREGORIAN
BEGIN:VEVENT
DTSTART:20160519T113000Z
DTEND:20160519T120000Z
UID:e17156
DTSTAMP:20260420T195134Z
LOCATION:Wolfson Building for Biological Research
DESCRIPTION:"Lung Repair by Fetal Lung Cells Across Major Genetic Barriers"
SUMMARY:"Lung Repair by Fetal Lung Cells Across Major Genetic Barriers"
END:VEVENT
END:VCALENDAR