BEGIN:VCALENDAR
VERSION:2.0
PRODID:-//hacksw/handcal//NONSGML v1.0//EN
CALSCALE:GREGORIAN
BEGIN:VEVENT
DTSTART:20160516T080000Z
DTEND:20160516T080000Z
UID:e17171
DTSTAMP:20260419T185630Z
LOCATION:Sussman Family Building for Environmental Sciences
DESCRIPTION:Shape-induced gravitational sorting of transatlantic dust
SUMMARY:Shape-induced gravitational sorting of transatlantic dust
END:VEVENT
END:VCALENDAR