BEGIN:VCALENDAR
VERSION:2.0
PRODID:-//hacksw/handcal//NONSGML v1.0//EN
CALSCALE:GREGORIAN
BEGIN:VEVENT
DTSTART:20160522T080000Z
DTEND:20160522T080000Z
UID:e17174
DTSTAMP:20260419T185628Z
LOCATION:Sussman Family Building for Environmental Sciences
DESCRIPTION:Ecosystem responses to elevated CO2: a mechanistic modeling perspective
SUMMARY:Ecosystem responses to elevated CO2: a mechanistic modeling perspective
END:VEVENT
END:VCALENDAR