BEGIN:VCALENDAR
VERSION:2.0
PRODID:-//hacksw/handcal//NONSGML v1.0//EN
CALSCALE:GREGORIAN
BEGIN:VEVENT
DTSTART:20160619T080000Z
DTEND:20160619T080000Z
UID:e17176
DTSTAMP:20260420T054925Z
LOCATION:Sussman Family Building for Environmental Sciences
DESCRIPTION:Recapping the importance of aerosol-cloud interactions: physico-chemical and ice-nucleating properties of cellulose & its potential contribution to ice formation in clouds
SUMMARY:Recapping the importance of aerosol-cloud interactions: physico-chemical and ice-nucleating properties of cellulose & its potential contribution to ice formation in clouds
END:VEVENT
END:VCALENDAR