BEGIN:VCALENDAR
VERSION:2.0
PRODID:-//hacksw/handcal//NONSGML v1.0//EN
CALSCALE:GREGORIAN
BEGIN:VEVENT
DTSTART:20160607T110000Z
DTEND:20160607T110000Z
UID:e17213
DTSTAMP:20260419T140651Z
LOCATION:Helen and Milton A. Kimmelman Building
DESCRIPTION:Cross-talk between redox regulation and protein homeostasis
SUMMARY:Cross-talk between redox regulation and protein homeostasis
END:VEVENT
END:VCALENDAR