BEGIN:VCALENDAR
VERSION:2.0
PRODID:-//hacksw/handcal//NONSGML v1.0//EN
CALSCALE:GREGORIAN
BEGIN:VEVENT
DTSTART:20160602T070000Z
DTEND:20160602T103000Z
UID:e17217
DTSTAMP:20260419T140646Z
LOCATION:Michael Sela Auditorium
DESCRIPTION:כנס סוף שנה מתמטיקה ומדע בהתכתבות 
SUMMARY:כנס סוף שנה מתמטיקה ומדע בהתכתבות 
END:VEVENT
END:VCALENDAR