BEGIN:VCALENDAR
VERSION:2.0
PRODID:-//hacksw/handcal//NONSGML v1.0//EN
CALSCALE:GREGORIAN
BEGIN:VEVENT
DTSTART:20160621T093000Z
DTEND:20160621T093000Z
UID:e17236
DTSTAMP:20260420T050051Z
LOCATION:Gerhard M.J. Schmidt Lecture Hall
DESCRIPTION:Encoding of spatial and temporal properties of motor tics
SUMMARY:Encoding of spatial and temporal properties of motor tics
END:VEVENT
END:VCALENDAR