BEGIN:VCALENDAR
VERSION:2.0
PRODID:-//hacksw/handcal//NONSGML v1.0//EN
CALSCALE:GREGORIAN
BEGIN:VEVENT
DTSTART:20160619T110000Z
DTEND:20160619T120000Z
UID:e17248
DTSTAMP:20260421T180753Z
LOCATION:Wolfson Building for Biological Research
DESCRIPTION:The Power of Single Cells:  Tumor Heterogeneity and Ecosystem 
SUMMARY:The Power of Single Cells:  Tumor Heterogeneity and Ecosystem 
END:VEVENT
END:VCALENDAR