BEGIN:VCALENDAR
VERSION:2.0
PRODID:-//hacksw/handcal//NONSGML v1.0//EN
CALSCALE:GREGORIAN
BEGIN:VEVENT
DTSTART:20160619T100000Z
DTEND:20160619T100000Z
UID:e17253
DTSTAMP:20260420T054856Z
LOCATION:Dannie N. Heineman Laboratory
DESCRIPTION:Neural codes for 3D goal-directed navigation in bats: Of spheres\, toruses\, and convoluted vectors
SUMMARY:Neural codes for 3D goal-directed navigation in bats: Of spheres\, toruses\, and convoluted vectors
END:VEVENT
END:VCALENDAR