BEGIN:VCALENDAR
VERSION:2.0
PRODID:-//hacksw/handcal//NONSGML v1.0//EN
CALSCALE:GREGORIAN
BEGIN:VEVENT
DTSTART:20160621T080000Z
DTEND:20160621T090000Z
UID:e17257
DTSTAMP:20260420T050018Z
LOCATION:Helen and Milton A. Kimmelman Building
DESCRIPTION:Directed ortho metalation: A New textbook Reaction?”
SUMMARY:Directed ortho metalation: A New textbook Reaction?”
END:VEVENT
END:VCALENDAR