BEGIN:VCALENDAR
VERSION:2.0
PRODID:-//hacksw/handcal//NONSGML v1.0//EN
CALSCALE:GREGORIAN
BEGIN:VEVENT
DTSTART:20160622T070000Z
DTEND:20160622T070000Z
UID:e17259
DTSTAMP:20260420T091603Z
LOCATION:Arthur and Rochelle Belfer Building for Biomedical Research
DESCRIPTION:Early commitment and robust differentiation in intestinal crypts
SUMMARY:Early commitment and robust differentiation in intestinal crypts
END:VEVENT
END:VCALENDAR