BEGIN:VCALENDAR
VERSION:2.0
PRODID:-//hacksw/handcal//NONSGML v1.0//EN
CALSCALE:GREGORIAN
BEGIN:VEVENT
DTSTART:20160626T100000Z
DTEND:20160626T100000Z
UID:e17263
DTSTAMP:20260420T045939Z
LOCATION:Dannie N. Heineman Laboratory
DESCRIPTION:Spatio-temporal patterns of delayed interactions in echolocating bats
SUMMARY:Spatio-temporal patterns of delayed interactions in echolocating bats
END:VEVENT
END:VCALENDAR