BEGIN:VCALENDAR
VERSION:2.0
PRODID:-//hacksw/handcal//NONSGML v1.0//EN
CALSCALE:GREGORIAN
BEGIN:VEVENT
DTSTART:20160628T080000Z
DTEND:20160628T090000Z
UID:e17266
DTSTAMP:20260420T050134Z
LOCATION:Helen and Milton A. Kimmelman Building
DESCRIPTION:Characterization of New Light-driven Cation/Anion Pumping Rhodopsins and Optogenetic Application
SUMMARY:Characterization of New Light-driven Cation/Anion Pumping Rhodopsins and Optogenetic Application
END:VEVENT
END:VCALENDAR