BEGIN:VCALENDAR
VERSION:2.0
PRODID:-//hacksw/handcal//NONSGML v1.0//EN
CALSCALE:GREGORIAN
BEGIN:VEVENT
DTSTART:20160727T100000Z
DTEND:20160727T100000Z
UID:e17287
DTSTAMP:20260420T194206Z
LOCATION:Wolfson Building for Biological Research
DESCRIPTION:Guest Seminar
SUMMARY:Guest Seminar
END:VEVENT
END:VCALENDAR