BEGIN:VCALENDAR
VERSION:2.0
PRODID:-//hacksw/handcal//NONSGML v1.0//EN
CALSCALE:GREGORIAN
BEGIN:VEVENT
DTSTART:20171023T080000Z
DTEND:20171023T090000Z
UID:e17303
DTSTAMP:20260421T182301Z
LOCATION:Dolfi and Lola Ebner Auditorium
DESCRIPTION:Life Science Colloquium
SUMMARY:Life Science Colloquium
END:VEVENT
END:VCALENDAR