BEGIN:VCALENDAR
VERSION:2.0
PRODID:-//hacksw/handcal//NONSGML v1.0//EN
CALSCALE:GREGORIAN
BEGIN:VEVENT
DTSTART:20170612T080000Z
DTEND:20170612T090000Z
UID:e17310
DTSTAMP:20260420T003405Z
LOCATION:Gerhard M.J. Schmidt Lecture Hall
DESCRIPTION:Shneior Lifson Memorial Lecture
SUMMARY:Shneior Lifson Memorial Lecture
END:VEVENT
END:VCALENDAR