BEGIN:VCALENDAR
VERSION:2.0
PRODID:-//hacksw/handcal//NONSGML v1.0//EN
CALSCALE:GREGORIAN
BEGIN:VEVENT
DTSTART:20160825T070000Z
DTEND:20160825T070000Z
UID:e17315
DTSTAMP:20260419T154147Z
LOCATION:Wolfson Building for Biological Research
DESCRIPTION:Full humanisation of the mouse immunoglobulin loci
SUMMARY:Full humanisation of the mouse immunoglobulin loci
END:VEVENT
END:VCALENDAR