BEGIN:VCALENDAR
VERSION:2.0
PRODID:-//hacksw/handcal//NONSGML v1.0//EN
CALSCALE:GREGORIAN
BEGIN:VEVENT
DTSTART:20161020T143000Z
DTEND:20161020T160000Z
UID:e17326
DTSTAMP:20260420T003356Z
LOCATION:Michael Sela Auditorium
DESCRIPTION:Karius & Bactus - Children's theater 
SUMMARY:Karius & Bactus - Children's theater 
END:VEVENT
END:VCALENDAR