BEGIN:VCALENDAR
VERSION:2.0
PRODID:-//hacksw/handcal//NONSGML v1.0//EN
CALSCALE:GREGORIAN
BEGIN:VEVENT
DTSTART:20161028T170000Z
DTEND:20161028T170000Z
UID:e17328
DTSTAMP:20260420T003405Z
LOCATION:Michael Sela Auditorium
DESCRIPTION:Nathan's Friends - Music from all over the world 
SUMMARY:Nathan's Friends - Music from all over the world 
END:VEVENT
END:VCALENDAR