BEGIN:VCALENDAR
VERSION:2.0
PRODID:-//hacksw/handcal//NONSGML v1.0//EN
CALSCALE:GREGORIAN
BEGIN:VEVENT
DTSTART:20160907T100000Z
DTEND:20160907T100000Z
UID:e17335
DTSTAMP:20260419T140649Z
LOCATION:Michael Sela Auditorium
DESCRIPTION:"The Formation and Light Manipulation Properties of Biogenic Guanine Based Photonic Crystal"
SUMMARY:"The Formation and Light Manipulation Properties of Biogenic Guanine Based Photonic Crystal"
END:VEVENT
END:VCALENDAR